BEGIN:VCALENDAR
VERSION:2.0
PRODID:-//Drupal iCal API//EN
X-WR-CALNAME:Calendar of Events
X-WR-TIMEZONE:America/Chicago
BEGIN:VTIMEZONE
TZID:America/Chicago
X-LIC-LOCATION:America/Chicago
BEGIN:DAYLIGHT
TZNAME:CDT
TZOFFSETFROM:-0600
TZOFFSETTO:-0500
DTSTART:20260308T080000
END:DAYLIGHT
BEGIN:STANDARD
TZNAME:CST
TZOFFSETFROM:-0500
TZOFFSETTO:-0600
DTSTART:20251102T070000
END:STANDARD
END:VTIMEZONE
BEGIN:VEVENT
UID:6b711e0e-8bc3-4835-aacb-d42b27c610d2
DTSTART;TZID=America/Chicago:20260430T161500
SEQUENCE:0
TRANSP:TRANSPARENT
DTEND;TZID=America/Chicago:20260430T171500
SUMMARY:Joint CAC Meeting
CLASS:PUBLIC
DESCRIPTION:Body \n\nTHE CAC MEETINGS FOR THE 2025 – 2026 YEAR ARE:\n\nFr
 iday\, September 25 at 4:15 p.m. – 5:15 p.m.\, Lively Library\nTuesday\,
  October 23 at 4:15 p.m. – 5:15 p.m\, virtual\nTuesday\, November 18 at 
 4:15 p.m. – 5:15 p.m\, virtual\nTuesday\, January 20 at 4:15 p.m. – 5:
 15 p.m.\, virtual\nTuesday\, February 17 at 4:15 p.m. – 5:15 p.m\, virtu
 al\nTuesday\, March 24 at 4:15 p.m. – 5:15 p.m\, virtual\nTuesday\, Apri
 l 21 at 4:15 p.m. – 5:15 p.m.\, Lively Library\nThursday\, April 30 at 4
  p.m. dads / 4:15 p.m. – 5:15 p.m\, virtual \nTuesday\, May 19 at 4:15 
 p.m. – 5:15 p.m\, TBD\n\nVIRTUAL MEETING ACCESS\n\n* Join all virtual me
 etings using this  Lively CAC Virtual Google\nChat [https://meet.google.
 com/egc-dofo-xqd]\n * CAC Agendas and Google Meets call link can be found 
 on our Lively\nCAC page. [/parents/cac]\n * Virtual meeting details can al
 so be found in the PTSA newsletter.\nVisit https://livelyptsa.com/newslet
 ter/ to subscribe to the\nnewsletter.\n
DTSTAMP:20260424T193810Z
END:VEVENT
END:VCALENDAR